BEGIN:VCALENDAR
VERSION:2.0
PRODID:-//Acme Widgets\, Inc.//NONSGML ExportToCalendar//EN
CALSCALE:GREGORIAN
METHOD:PUBLISH
X-WR-CALNAME:Groupmuses near 
X-WR-NAME:Groupmuses near 
BEGIN:VEVENT
DTSTAMP:20260425T134336Z
UID:f0a20785-d83a-42e5-870c-418f8565a023
DTSTART:20260517T180000Z
DTEND:20260517T203000Z
DESCRIPTION:Hosted by Naoko O.\nMusicians: Masha Polishchuk and Valeriya Sh
 olokhova\n\nCome join our intimate French Salon - we’ll be listening to 
 beautiful music from French and Bohemian composers! 
LOCATION:Upper West Side
SUMMARY:Debussy\, Ravel\, Satie - The French Salon Experience
URL:https://www.groupmuse.com/events/16583-debussy-ravel-satie-the-french-s
 alon-experience
END:VEVENT
END:VCALENDAR
