BEGIN:VCALENDAR
VERSION:2.0
PRODID:-//Acme Widgets\, Inc.//NONSGML ExportToCalendar//EN
CALSCALE:GREGORIAN
METHOD:PUBLISH
X-WR-CALNAME:Groupmuses near 
X-WR-NAME:Groupmuses near 
BEGIN:VEVENT
DTSTAMP:20260424T002656Z
UID:d64cecf2-88a0-471f-9875-f758afc2b3d2
DTSTART:20260626T230000Z
DTEND:20260627T013000Z
DESCRIPTION:Hosted by Scott V.\nMusicians: Ben Cosgrove\n\n**Ben Cosgrove**
  is a traveling composer-performer whose music explores themes of landscap
 e\, place\, and environment. Described by the Boston Globe as “a sonic p
 lein-air painter… [using] his piano as a paintbrush\,” Ben has perform
 ed in every U.S. state except for Delaware and composed music for the Nati
 onal Park Service\, NASA\, Ken Burns's film The American Buffalo\, and mor
 e. Ben's music has been called "beautiful and fascinating" (The Maine Edge
 )\, "deeply impressive" (Independent Clauses)\, and "immediately evocative
  and fully arresting... brim[ming] with technical mastery and emotional ca
 pital" (Seven Days). Yankee Magazine calls his music "quintessentially Ame
 rican\, omnivorous\, and democratic\," and Sound of Boston has described h
 im as "an expert at painting sonic portraits of curious\, unexpected place
 s." His latest album\, Topograph\, a collection of sixteen new pieces insp
 ired by land-shaping processes around the country\, was released in Januar
 y 2026.\n\nAnd he's coming through Topanga Canyon! You've got to be there!
LOCATION:Topanga
SUMMARY:Ben Cosgrove comes to the Canyon 🎹🌄
URL:https://www.groupmuse.com/events/16578-ben-cosgrove-comes-to-the-canyon
END:VEVENT
END:VCALENDAR
