BEGIN:VCALENDAR
VERSION:2.0
PRODID:-//Acme Widgets\, Inc.//NONSGML ExportToCalendar//EN
CALSCALE:GREGORIAN
METHOD:PUBLISH
X-WR-CALNAME:Groupmuses near 
X-WR-NAME:Groupmuses near 
BEGIN:VEVENT
DTSTAMP:20260423T160351Z
UID:b6198b17-c3c3-4087-8a31-1cb5b26b4e9b
DTSTART:20260522T230000Z
DTEND:20260523T013000Z
DESCRIPTION:Hosted by Jared P.\nMusicians: Chandler Yu\n\nI'm thrilled to w
 elcome Chandler Yu and Shuo Zhai for an amazing program featuring Ravel an
 d Prokofiev.\n\nDoors open at 7pm\, music starts at 7:30pm\n
LOCATION:Columbus Circle
SUMMARY:Chandler Yu and Shuo Zhai: Ravel & Prokofiev
URL:https://www.groupmuse.com/events/16566-chandler-yu-and-shuo-zhai-ravel-
 prokofiev
END:VEVENT
END:VCALENDAR
