BEGIN:VCALENDAR
VERSION:2.0
PRODID:-//Acme Widgets\, Inc.//NONSGML ExportToCalendar//EN
CALSCALE:GREGORIAN
METHOD:PUBLISH
X-WR-CALNAME:Groupmuses near 
X-WR-NAME:Groupmuses near 
BEGIN:VEVENT
DTSTAMP:20260425T135137Z
UID:737fee15-615f-4ee8-95fa-d25f87a83749
DTSTART:20260427T230000Z
DTEND:20260428T013000Z
DESCRIPTION:Hosted by Jared P.\nMusicians: Minyi Zhang\n\nHello everyone! I
 'm thrilled to welcome Minyi Zhang for an evening of two beautiful and con
 trasting works - the experimental and abstract Musica Ricercata by Ligeti 
 and the programmatic and romantic Pictures at an Exhibition.\n\nDoors at 7
 pm\, music at 7:30pm\n\nProgram:\nLigeti - Musica Ricercata 3 4 6 7 8\nMus
 sorgsky - Pictures at an Exhibition
LOCATION:Columbus Circle
SUMMARY:Sketches at an Exhibition
URL:https://www.groupmuse.com/events/16553-sketches-at-an-exhibition
END:VEVENT
END:VCALENDAR
