BEGIN:VCALENDAR
VERSION:2.0
PRODID:-//Acme Widgets\, Inc.//NONSGML ExportToCalendar//EN
CALSCALE:GREGORIAN
METHOD:PUBLISH
X-WR-CALNAME:Groupmuses near 
X-WR-NAME:Groupmuses near 
BEGIN:VEVENT
DTSTAMP:20260420T193143Z
UID:dc70ccea-5aaf-41f1-be3e-43f95c1c43c2
DTSTART:20260515T230000Z
DTEND:20260516T013000Z
DESCRIPTION:Hosted by Kofi H.\nMusicians: Melanie Chirignan and Laura Melni
 coff\n\nWe are pleased to welcome Duo Envol from Albany\, NY! Featuring Me
 lanie Chirignan on flute\, and Laura Melnicoff on cello\, they have a love
 ly program of nature-inspired music to cap off the end of your week.
LOCATION:Harlem
SUMMARY:Duo Envol 
URL:https://www.groupmuse.com/events/16551-duo-envol
END:VEVENT
END:VCALENDAR
