BEGIN:VCALENDAR
VERSION:2.0
PRODID:-//Acme Widgets\, Inc.//NONSGML ExportToCalendar//EN
CALSCALE:GREGORIAN
METHOD:PUBLISH
X-WR-CALNAME:Groupmuses near 
X-WR-NAME:Groupmuses near 
BEGIN:VEVENT
DTSTAMP:20260420T030158Z
UID:8fc06159-e18d-4257-a1ff-4de2e41a8760
DTSTART:20260510T200000Z
DTEND:20260510T223000Z
DESCRIPTION:Hosted by Kurt K.\nMusicians: Jay Julio and Ajibola Rivers\n\nD
 ear Music Lovers\,\nBack by popular demand—Jay Julio and Ajibola Rivers!
 \nSunday afternoon\, May 10th\, at 4:00 pm\, I will host a musical event i
 n my condo. The music will start at about 4:30pm. Enjoy some splendid musi
 c\, wine\, cheese\, and conversation with other music enthusiasts. Bring y
 our own food and drinks if you like\; I’ll only provide minimal wine and
  snacks.\nJay Julio\, viola/violin\, and Ajibola Rivers\, cello\, will pla
 y for us. Among other degrees and awards\, Jay has an MM from the Juilliar
 d School and is the Assistant Principal Violist of the Opera Philadelphia 
 Orchestra. Jay has recorded for Parma\, Nonesuch\, and Broadway Records. A
 jibola Rivers received his Cello Performance degree from the Boyer College
  of Music and Dance and is a proud recipient of the prestigious Temple Uni
 versity 30 Under 30 award for 2024. Ajibola is also a self-taught composer
  and arranger.\nDon’t forget to register with Groupmuse for this excitin
 g event. \nFinally\, you will each be asked to pay what you can (suggested
  $20) — all of it goes directly to the musicians. Give more than suggest
 ed if you like!\nI hope to see you on May 10th!\nKurt\n
LOCATION:Center City West\, Philadelphia
SUMMARY:Classical Music with Viola and Cello
URL:https://www.groupmuse.com/events/16540-classical-music-with-viola-and-c
 ello
END:VEVENT
END:VCALENDAR
