BEGIN:VCALENDAR
VERSION:2.0
PRODID:-//Acme Widgets\, Inc.//NONSGML ExportToCalendar//EN
CALSCALE:GREGORIAN
METHOD:PUBLISH
X-WR-CALNAME:Groupmuses near 
X-WR-NAME:Groupmuses near 
BEGIN:VEVENT
DTSTAMP:20260423T221308Z
UID:41df9195-4bc1-42dd-9226-b0a39fd3558d
DTSTART:20260823T210000Z
DTEND:20260823T233000Z
DESCRIPTION:Hosted by Jennifer K.\nMusicians: Junwen Liang\n\nJunwen is ori
 ginally from mainland China and came to the United States in 2013 for his 
 studies\, completing his academic journey at the Peabody Institute in May 
 2024\, where he worked closely with the concert pianist Richard Goode. Sin
 ce then\, he has performed approximately 35 concerts across the U.S. and C
 hina. This fall\, he had the pleasure of performing several Groupmuse conc
 erts in Philadelphia\, New York\, and San Diego\, and was deeply grateful 
 for those experiences—three of which reached full capacity with waitlist
 s. Returning to this intimate concert setting has been especially meaningf
 ul\, echoing the salon traditions that first shaped classical music cultur
 e\, and it’s inspiring to see how Groupmuse continues to foster such clo
 se and engaged musical communities today.
LOCATION:Vienna
SUMMARY:Please join us for a summer evening of music as we welcome Junwen L
 iang to our house concert.           
URL:https://www.groupmuse.com/events/16536-please-join-us-for-a-summer-even
 ing-of-music-as-we-welcome-junwen-liang-to-our-house-concert
END:VEVENT
END:VCALENDAR
