BEGIN:VCALENDAR
VERSION:2.0
PRODID:-//Acme Widgets\, Inc.//NONSGML ExportToCalendar//EN
CALSCALE:GREGORIAN
METHOD:PUBLISH
X-WR-CALNAME:Groupmuses near 
X-WR-NAME:Groupmuses near 
BEGIN:VEVENT
DTSTAMP:20260420T030828Z
UID:99b2d858-be0f-444a-99aa-f5eabb5bb101
DTSTART:20260509T230000Z
DTEND:20260510T013000Z
DESCRIPTION:Hosted by Zane B.\nMusicians: Shuo Zhai\, Chandler Yu\, and Sum
 mer Hu\n\nWe’re pleased to welcome back pianist Shuo Zhai\, together wit
 h violinist Chandler Yu and cellist Summer Hu\, in an exciting evening of 
 music by Ravel\, Rachmaninoff\, and more! \n\nThis Groupmuse will also fea
 ture craft cocktails by The Mobile Mixer as well as a variety of snacks. T
 he evening’s refreshments will be compliments of the host and musicians.
LOCATION:SoHo
SUMMARY:Ravel\, Rachmaninoff\, Revelry: An Evening of Seductive Sonatas & C
 raft Cocktails
URL:https://www.groupmuse.com/events/16529-ravel-rachmaninoff-revelry-an-ev
 ening-of-seductive-sonatas-craft-cocktails
END:VEVENT
END:VCALENDAR
