BEGIN:VCALENDAR
VERSION:2.0
PRODID:-//Acme Widgets\, Inc.//NONSGML ExportToCalendar//EN
CALSCALE:GREGORIAN
METHOD:PUBLISH
X-WR-CALNAME:Groupmuses near 
X-WR-NAME:Groupmuses near 
BEGIN:VEVENT
DTSTAMP:20260423T155822Z
UID:4902e0db-57f2-412d-882c-5d3f9dbdb894
DTSTART:20260517T144500Z
DTEND:20260517T171500Z
DESCRIPTION:Hosted by GatherNYC\nMusicians: Catalyst Quartet\n\n**Gather NY
 C** is a revolutionary Sunday morning concert experience\, hailed by The N
 ew Yorker for promoting "thoughtful\, intimate events curated with refresh
 ing eclecticism"\, and listed as #7 in "Best Things to Do in New York this
  weekend" by Time Out New York magazine. The music\, performed by some of 
 NYC's most celebrated artists\, is complimented by artisanal coffee and pa
 stries\, a taste of spoken word\, and a brief celebration of silence. The 
 entire experience lasts about one hour. We're thrilled to be partnering up
  with them for a few of their shows this season\, to give our Groupmusers 
 the opportunity to purchase discounted tickets.\n\nFeatured this time is t
 he Grammy-winning **Catalyst Quartet**\, known for their masterful\, compr
 ehensive recordings of music by Black composers throughout history\, bring
  their signature polish and style back to GatherNYC for the second time. D
 on't miss this show for a fraction of the cost through **Groupmuse Nights 
 Out**!\n\n*Doors open at 10:30. Music starts at 11am.*
LOCATION:Museum of Arts & Design
SUMMARY:GatherNYC Presents: Catalyst Quartet
URL:https://www.groupmuse.com/events/16528-gathernyc-presents-catalyst-quar
 tet
END:VEVENT
END:VCALENDAR
