BEGIN:VCALENDAR
VERSION:2.0
PRODID:-//Acme Widgets\, Inc.//NONSGML ExportToCalendar//EN
CALSCALE:GREGORIAN
METHOD:PUBLISH
X-WR-CALNAME:Groupmuses near 
X-WR-NAME:Groupmuses near 
BEGIN:VEVENT
DTSTAMP:20260424T002655Z
UID:1b7c7b19-41c5-46c8-8557-5ea6c2af74a9
DTSTART:20260516T030000Z
DTEND:20260516T053000Z
DESCRIPTION:Hosted by The Oakland S.\nMusicians: \n\nClose the season with 
 a monumental surge of sound and spirit through **Groupmuse Nights Out**\, 
 offering discounted tickets to the **Oakland Symphony**’s grand finale a
 t the **Paramount Theatre on Friday\, May 15 at 8 PM**. Anchored by **Beet
 hoven**’s *Symphony No. 3*\, “Eroica”—a work that forever changed 
 the course of music—this powerful evening captures the boldness\, scale\
 , and emotional sweep of a composer redefining what symphonic music could 
 be. From its heroic opening to its triumphant close\, Eroica remains one o
 f the most electrifying journeys in the orchestral repertoire.\n\nBalancin
 g this iconic masterpiece is **R. Nathaniel Dett**’s *The Ordering of Mo
 ses*\, a stirring and richly expressive work that brings together soloists
  **Shawnette Sulker\, Krysty Swann\, Terrence Chin-Loy\, and Kenneth Kello
 gg** with the **Oakland Symphony Chorus under Zach Salsburg-Frank**. Roote
 d in spiritual tradition and infused with dramatic power\, it offers a pro
 found complement to Beethoven’s revolutionary vision. Arrive early for a
  7:05 PM pre-concert talk with **John Kendall Bailey**\, then settle in fo
 r an unforgettable night—made even more accessible with Groupmuse Nights
  Out discounted tickets. 🎶✨
LOCATION:The Paramount Theater
SUMMARY:The Oakland Symphony Presents: Beethoven's Eroica Symphony
URL:https://www.groupmuse.com/events/16516-the-oakland-symphony-presents-be
 ethoven-s-eroica-symphony
END:VEVENT
END:VCALENDAR
