BEGIN:VCALENDAR
VERSION:2.0
PRODID:-//Acme Widgets\, Inc.//NONSGML ExportToCalendar//EN
CALSCALE:GREGORIAN
METHOD:PUBLISH
X-WR-CALNAME:Groupmuses near 
X-WR-NAME:Groupmuses near 
BEGIN:VEVENT
DTSTAMP:20260420T030700Z
UID:8f7c0fb9-2b11-41b0-a299-f1ef6f179da6
DTSTART:20260510T183000Z
DTEND:20260510T210000Z
DESCRIPTION:Hosted by Isabel K.\nMusicians: Minyi Zhang\n\nPlease join us f
 or an evening of piano music with Minyi Zhang.\n\nThe program features two
  works also known in their orchestral forms — Mussorgsky's Pictures at a
 n Exhibition and Stravinsky's Firebird Suite\, in the virtuosic transcript
 ion by Guido Agosti — performed here for solo piano.\n\nMinyi Zhang hold
 s degrees from The Juilliard School and is currently pursuing her doctorat
 e at Stony Brook University under Gilbert Kalish. She has performed across
  the United States\, China\, Japan\, and Europe.
LOCATION:Midtown South
SUMMARY:Minyi Zhang Piano Recital -- "Downsized": An Orchestral Evening for
  Piano
URL:https://www.groupmuse.com/events/16469-minyi-zhang-piano-recital-downsi
 zed-an-orchestral-evening-for-piano
END:VEVENT
END:VCALENDAR
