BEGIN:VCALENDAR
VERSION:2.0
PRODID:-//Acme Widgets\, Inc.//NONSGML ExportToCalendar//EN
CALSCALE:GREGORIAN
METHOD:PUBLISH
X-WR-CALNAME:Groupmuses near 
X-WR-NAME:Groupmuses near 
BEGIN:VEVENT
DTSTAMP:20260423T221310Z
UID:c269cb9e-be1d-46dc-bed5-41356633895e
DTSTART:20260523T230000Z
DTEND:20260524T013000Z
DESCRIPTION:Hosted by Lisa T.\nMusicians: Julien Xuereb\n\nSit back and rel
 ax to the mesmerizing music of French classical guitarist Julien Xuereb.  
 A graduate of Peabody\, Julien plays a range of music from the classics to
  folk music to Middle Eastern.  Bring your favorite drinks and appetizers 
 and enjoy his mesmerizing music in my living room.
LOCATION:Forest Glen\, Silver Spring
SUMMARY:A Relaxing Music of Classical Guitar Music
URL:https://www.groupmuse.com/events/16466-a-relaxing-music-of-classical-gu
 itar-music
END:VEVENT
END:VCALENDAR
