BEGIN:VCALENDAR
VERSION:2.0
PRODID:-//Acme Widgets\, Inc.//NONSGML ExportToCalendar//EN
CALSCALE:GREGORIAN
METHOD:PUBLISH
X-WR-CALNAME:Groupmuses near 
X-WR-NAME:Groupmuses near 
BEGIN:VEVENT
DTSTAMP:20260420T030244Z
UID:48c4376e-128c-424c-9332-4797a28bc0c5
DTSTART:20260509T020000Z
DTEND:20260509T043000Z
DESCRIPTION:Hosted by George K.\nMusicians: George Kahn\, Courtney Lemmon\,
  and Gina Saputo\n\n Courtney Lemmon and Gina Saputo are featured with the
  George Kahn Trio\, playing songs from the Jazz and Blues greats\, dating 
 from the 40's top the '80s.\nWe are thrilled to being this evening of "cla
 ssic" jazz vocal music back for a return engagement.
LOCATION:Blanco - Culver Crest\, Culver City
SUMMARY:Jazz & Blues Revue Unplugged Return Engagement
URL:https://www.groupmuse.com/events/16447-jazz-blues-revue-unplugged-retur
 n-engagement
END:VEVENT
END:VCALENDAR
