BEGIN:VCALENDAR
VERSION:2.0
PRODID:-//Acme Widgets\, Inc.//NONSGML ExportToCalendar//EN
CALSCALE:GREGORIAN
METHOD:PUBLISH
X-WR-CALNAME:Groupmuses near 
X-WR-NAME:Groupmuses near 
BEGIN:VEVENT
DTSTAMP:20260424T002655Z
UID:50a70f8d-a04e-4a3d-a63d-ee1e6d8dfffe
DTSTART:20260517T233000Z
DTEND:20260518T020000Z
DESCRIPTION:Hosted by David Z.\nMusicians: Hannah White\n\nConcert Violinis
 t Hannah White\, who has enraptured crowds from Carnegie Hall to the Holly
 wood Bowl and across four continents\, while soloing with acclaimed sympho
 ny orchestras as well as top pop artists\, returns to Brewster in Tarzana 
 with an all-new program.  Details to come!\n\nhttps://hannahwhite.com/abou
 t/
LOCATION:Tarzana\, Los Angeles
SUMMARY:Concert Violinist is Hannah White back in Tarzana!
URL:https://www.groupmuse.com/events/16365-concert-violinist-is-hannah-whit
 e-back-in-tarzana
END:VEVENT
END:VCALENDAR
